BEGIN:VCALENDAR
X-LOTUS-CHARSET:UTF-8
VERSION:2.0
PRODID:-//unihamburg/mundry
METHOD:PUBLISH
BEGIN:VTIMEZONE
TZID:Europe/Berlin
X-LIC-LOCATION:Europe/Berlin
BEGIN:DAYLIGHT
TZOFFSETFROM:+0100
TZOFFSETTO:+0200
TZNAME:CEST
DTSTART:19700329T020000
RRULE:FREQ=YEARLY;INTERVAL=1;BYDAY=-1SU;BYMONTH=3
END:DAYLIGHT
BEGIN:STANDARD
TZOFFSETFROM:+0200
TZOFFSETTO:+0100
TZNAME:CET
DTSTART:19701025T030000
RRULE:FREQ=YEARLY;INTERVAL=1;BYDAY=-1SU;BYMONTH=10
END:STANDARD
END:VTIMEZONE
BEGIN:VEVENT
UID:132122
CLASS:PUBLIC
SUMMARY:Gut beraten ins Studium starten - Kurzvorstellung Beratungsangebote des Studierendenwerks Hamburg
DTSTART;TZID=Europe/Berlin:20260331T100000
DTEND;TZID=Europe/Berlin:20260331T103000
DTSTAMP:20260425T0336Z
DESCRIPTION:Du hast dein Studium begonnen und möchtest wissen, wie du dein Studium finanzieren kannst.\nWir sind für dich da und stellen in einem Kurzvortrag unsere Beratungsangebote vom Beratungszentrum Studienfinanzierung  - BeSt und Beratungszentrum Soziales &amp; Internationales – BeSI vor…damit Studieren gelingt!\nDienstag, den 31.03.2026, 10-10.25 Uhr\nDie Veranstaltung findet online über Zoom statt.\nZoom-Zugangsdaten: https://us06web.zoom.us/j/81708479161\nMeeting-ID: 817 0847 9161 Informationen zu technischen Voraussetzungen und Datenschutzerklärung\n \n
LOCATION:, ,  , Digital
END:VEVENT
END:VCALENDAR
